BEGIN:VCALENDAR
VERSION:2.0
PRODID:-//Lake Land College - ECPv6.15.20//NONSGML v1.0//EN
CALSCALE:GREGORIAN
METHOD:PUBLISH
X-ORIGINAL-URL:https://www.lakelandcollege.edu
X-WR-CALDESC:Events for Lake Land College
REFRESH-INTERVAL;VALUE=DURATION:PT1H
X-Robots-Tag:noindex
X-PUBLISHED-TTL:PT1H
BEGIN:VTIMEZONE
TZID:America/Chicago
BEGIN:DAYLIGHT
TZOFFSETFROM:-0600
TZOFFSETTO:-0500
TZNAME:CDT
DTSTART:20240310T080000
END:DAYLIGHT
BEGIN:STANDARD
TZOFFSETFROM:-0500
TZOFFSETTO:-0600
TZNAME:CST
DTSTART:20241103T070000
END:STANDARD
BEGIN:DAYLIGHT
TZOFFSETFROM:-0600
TZOFFSETTO:-0500
TZNAME:CDT
DTSTART:20250309T080000
END:DAYLIGHT
BEGIN:STANDARD
TZOFFSETFROM:-0500
TZOFFSETTO:-0600
TZNAME:CST
DTSTART:20251102T070000
END:STANDARD
BEGIN:DAYLIGHT
TZOFFSETFROM:-0600
TZOFFSETTO:-0500
TZNAME:CDT
DTSTART:20260308T080000
END:DAYLIGHT
BEGIN:STANDARD
TZOFFSETFROM:-0500
TZOFFSETTO:-0600
TZNAME:CST
DTSTART:20261101T070000
END:STANDARD
END:VTIMEZONE
BEGIN:VEVENT
DTSTART;TZID=America/Chicago:20250313T070000
DTEND;TZID=America/Chicago:20250313T200000
DTSTAMP:20260425T230540
CREATED:20250306T114910Z
LAST-MODIFIED:20250310T191203Z
UID:35894378-1741849200-1741896000@www.lakelandcollege.edu
SUMMARY:Fitness Center
DESCRIPTION:Location: On Campus\, Field House – 116Contact: Meredith Phone: 5333
URL:https://www.lakelandcollege.edu/calendar/fitness-center-5/
LOCATION:On Campus\, Field House – 116
CATEGORIES:Athletics
END:VEVENT
BEGIN:VEVENT
DTSTART;TZID=America/Chicago:20250313T080000
DTEND;TZID=America/Chicago:20250313T150000
DTSTAMP:20260425T230540
CREATED:20250311T124627Z
LAST-MODIFIED:20250313T164545Z
UID:35894849-1741852800-1741878000@www.lakelandcollege.edu
SUMMARY:Fitness Center
DESCRIPTION:Location: On Campus\, Field House – 116Contact: Meredith Phone: 5333
URL:https://www.lakelandcollege.edu/calendar/fitness-center-26/
LOCATION:On Campus\, Field House – 116
CATEGORIES:Athletics
END:VEVENT
BEGIN:VEVENT
DTSTART;TZID=America/Chicago:20250313T140000
DTEND;TZID=America/Chicago:20250313T180000
DTSTAMP:20260425T230540
CREATED:20250303T191420Z
LAST-MODIFIED:20250313T164704Z
UID:35894027-1741874400-1741888800@www.lakelandcollege.edu
SUMMARY:BB v Rend Lake
DESCRIPTION:Location: On Campus\,  – BASEContact: MeredithPhone: 5333
URL:https://www.lakelandcollege.edu/calendar/bb-v-rend-lake/
LOCATION:On Campus\,  – BASE
CATEGORIES:Athletics
END:VEVENT
BEGIN:VEVENT
DTSTART;TZID=America/Chicago:20250313T160000
DTEND;TZID=America/Chicago:20250313T200000
DTSTAMP:20260425T230540
CREATED:20250306T114910Z
LAST-MODIFIED:20250313T164650Z
UID:35894379-1741881600-1741896000@www.lakelandcollege.edu
SUMMARY:DI WB Region
DESCRIPTION:Location: On Campus\, Field House – 116Contact: Meredith Phone: 5333
URL:https://www.lakelandcollege.edu/calendar/di-wb-region-2/
LOCATION:On Campus\, Field House – 116
CATEGORIES:Athletics
END:VEVENT
BEGIN:VEVENT
DTSTART;TZID=America/Chicago:20250313T160000
DTEND;TZID=America/Chicago:20250313T210000
DTSTAMP:20260425T230540
CREATED:20250311T124627Z
LAST-MODIFIED:20250313T164559Z
UID:35894850-1741881600-1741899600@www.lakelandcollege.edu
SUMMARY:WB DIvision ! Tournament
DESCRIPTION:Location: On Campus\, Field House – 112Phone: 5333
URL:https://www.lakelandcollege.edu/calendar/wb-division-tournament/
LOCATION:On Campus\, Field House – 112
CATEGORIES:Athletics
END:VEVENT
END:VCALENDAR