BEGIN:VCALENDAR
VERSION:2.0
PRODID:-//Lake Land College - ECPv6.15.20//NONSGML v1.0//EN
CALSCALE:GREGORIAN
METHOD:PUBLISH
X-WR-CALNAME:Lake Land College
X-ORIGINAL-URL:https://www.lakelandcollege.edu
X-WR-CALDESC:Events for Lake Land College
REFRESH-INTERVAL;VALUE=DURATION:PT1H
X-Robots-Tag:noindex
X-PUBLISHED-TTL:PT1H
BEGIN:VTIMEZONE
TZID:America/Chicago
BEGIN:DAYLIGHT
TZOFFSETFROM:-0600
TZOFFSETTO:-0500
TZNAME:CDT
DTSTART:20240310T080000
END:DAYLIGHT
BEGIN:STANDARD
TZOFFSETFROM:-0500
TZOFFSETTO:-0600
TZNAME:CST
DTSTART:20241103T070000
END:STANDARD
BEGIN:DAYLIGHT
TZOFFSETFROM:-0600
TZOFFSETTO:-0500
TZNAME:CDT
DTSTART:20250309T080000
END:DAYLIGHT
BEGIN:STANDARD
TZOFFSETFROM:-0500
TZOFFSETTO:-0600
TZNAME:CST
DTSTART:20251102T070000
END:STANDARD
BEGIN:DAYLIGHT
TZOFFSETFROM:-0600
TZOFFSETTO:-0500
TZNAME:CDT
DTSTART:20260308T080000
END:DAYLIGHT
BEGIN:STANDARD
TZOFFSETFROM:-0500
TZOFFSETTO:-0600
TZNAME:CST
DTSTART:20261101T070000
END:STANDARD
END:VTIMEZONE
BEGIN:VEVENT
DTSTART;TZID=America/Chicago:20250304T130000
DTEND;TZID=America/Chicago:20250304T180000
DTSTAMP:20260425T231536
CREATED:20250303T191419Z
LAST-MODIFIED:20250304T223324Z
UID:35894025-1741093200-1741111200@www.lakelandcollege.edu
SUMMARY:SB v Rend Lake
DESCRIPTION:Event Time: DH 2:00\, 4:00Location: On Campus\,  – SOFTContact: MeredithPhone: 5333
URL:https://www.lakelandcollege.edu/calendar/sb-v-rend-lake/
LOCATION:On Campus\,  – SOFT
CATEGORIES:Athletics
END:VEVENT
BEGIN:VEVENT
DTSTART;TZID=America/Chicago:20250305T110000
DTEND;TZID=America/Chicago:20250305T130000
DTSTAMP:20260425T231536
CREATED:20250303T174132Z
LAST-MODIFIED:20250304T182829Z
UID:35893312-1741172400-1741179600@www.lakelandcollege.edu
SUMMARY:Sullivan Dance Studio
DESCRIPTION:Location: On Campus\, Luther Student Center – 103
URL:https://www.lakelandcollege.edu/calendar/sullivan-dance-studio-5/
LOCATION:On Campus\, Luther Student Center – 103
CATEGORIES:College Events
END:VEVENT
BEGIN:VEVENT
DTSTART;TZID=America/Chicago:20250305T110000
DTEND;TZID=America/Chicago:20250305T130000
DTSTAMP:20260425T231536
CREATED:20250303T174132Z
LAST-MODIFIED:20250304T182829Z
UID:35893313-1741172400-1741179600@www.lakelandcollege.edu
SUMMARY:University of IL Springfield
DESCRIPTION:Location: On Campus\, Luther Student Center – 103
URL:https://www.lakelandcollege.edu/calendar/university-of-il-springfield-5/
LOCATION:On Campus\, Luther Student Center – 103
CATEGORIES:College Events
END:VEVENT
BEGIN:VEVENT
DTSTART;TZID=America/Chicago:20250305T110000
DTEND;TZID=America/Chicago:20250305T130000
DTSTAMP:20260425T231536
CREATED:20250303T174132Z
LAST-MODIFIED:20250304T182830Z
UID:35893314-1741172400-1741179600@www.lakelandcollege.edu
SUMMARY:SAB Event-Women's History Month Activity
DESCRIPTION:Event Time: 11:00-1:00Lake Land’s own Tanille Ulm will guide participants in painting pre-designed canvases featuring themed images. There will be a variety of cute designs to choose from\, and all painting supplies will be provided\, making this a fun and creative way to celebrate Women’s History Month.Location: On Campus\, Luther Student Center – 105Contact: Lisa Shumard-Shelton
URL:https://www.lakelandcollege.edu/calendar/sab-event-womens-history-month-activity-5/
LOCATION:On Campus\, Luther Student Center – 105
CATEGORIES:College Events
END:VEVENT
BEGIN:VEVENT
DTSTART;TZID=America/Chicago:20250305T110000
DTEND;TZID=America/Chicago:20250305T130000
DTSTAMP:20260425T231536
CREATED:20250303T174133Z
LAST-MODIFIED:20250304T182830Z
UID:35893316-1741172400-1741179600@www.lakelandcollege.edu
SUMMARY:EIU Interdisciplinary Studies information table
DESCRIPTION:Location: On Campus\, Luther Student Center – 103
URL:https://www.lakelandcollege.edu/calendar/eiu-interdisciplinary-studies-information-table-5/
LOCATION:On Campus\, Luther Student Center – 103
CATEGORIES:College Events
END:VEVENT
BEGIN:VEVENT
DTSTART;TZID=America/Chicago:20250305T120000
DTEND;TZID=America/Chicago:20250305T130000
DTSTAMP:20260425T231536
CREATED:20250303T174133Z
LAST-MODIFIED:20250304T182830Z
UID:35893315-1741176000-1741179600@www.lakelandcollege.edu
SUMMARY:Active Minds Club Meeting
DESCRIPTION:Active Minds ClubEvent Time: Noon-1:00 p.m.Location: On Campus\, Luther Student Center – 440Contact: Ellie Haskett Phone: 5259
URL:https://www.lakelandcollege.edu/calendar/active-minds-club-meeting-22/
LOCATION:On Campus\, Luther Student Center – 440
CATEGORIES:College Events
END:VEVENT
BEGIN:VEVENT
DTSTART;TZID=America/Chicago:20250305T120000
DTEND;TZID=America/Chicago:20250305T130000
DTSTAMP:20260425T231536
CREATED:20250303T184247Z
LAST-MODIFIED:20250305T162756Z
UID:35893693-1741176000-1741179600@www.lakelandcollege.edu
SUMMARY:Student Ambassador Meeting
DESCRIPTION:Student AmbassadorsLocation: On Campus\, Field House – 102Contact: Rachel ErvinPhone: 2704
URL:https://www.lakelandcollege.edu/calendar/student-ambassador-meeting/
LOCATION:On Campus\, Field House – 102
CATEGORIES:College Committee Meetings
END:VEVENT
BEGIN:VEVENT
DTSTART;TZID=America/Chicago:20250306T070000
DTEND;TZID=America/Chicago:20250306T200000
DTSTAMP:20260425T231536
CREATED:20250306T114909Z
LAST-MODIFIED:20250306T203400Z
UID:35894371-1741244400-1741291200@www.lakelandcollege.edu
SUMMARY:Fitness Center
DESCRIPTION:Location: On Campus\, Field House – 116Contact: MeredithPhone: 5333
URL:https://www.lakelandcollege.edu/calendar/fitness-center/
LOCATION:On Campus\, Field House – 116
CATEGORIES:Athletics
END:VEVENT
BEGIN:VEVENT
DTSTART;TZID=America/Chicago:20250306T090000
DTEND;TZID=America/Chicago:20250306T095900
DTSTAMP:20260425T231536
CREATED:20250304T132738Z
LAST-MODIFIED:20250306T152821Z
UID:35894215-1741251600-1741255140@www.lakelandcollege.edu
SUMMARY:Board of Trustees Finance Committee
DESCRIPTION:Event Time: 9:00-10:00 a.m.Location: On Campus\, Board and Administration Center – 011Contact: Seirra Laughhunn
URL:https://www.lakelandcollege.edu/calendar/board-of-trustees-finance-committee/
LOCATION:On Campus\, Board and Administration Center – 011
CATEGORIES:Board of Trustees Meetings
END:VEVENT
BEGIN:VEVENT
DTSTART;TZID=America/Chicago:20250307T000000
DTEND;TZID=America/Chicago:20250307T000000
DTSTAMP:20260425T231536
CREATED:20250303T175701Z
LAST-MODIFIED:20250306T185641Z
UID:35893398-1741305600-1741305600@www.lakelandcollege.edu
SUMMARY:Tuition & Fees Due - Spring
DESCRIPTION:
URL:https://www.lakelandcollege.edu/calendar/tuition-fees-due-spring/
CATEGORIES:Important Dates and Deadlines
END:VEVENT
BEGIN:VEVENT
DTSTART;TZID=America/Chicago:20250307T000000
DTEND;TZID=America/Chicago:20250307T000000
DTSTAMP:20260425T231536
CREATED:20250303T175701Z
LAST-MODIFIED:20250306T185641Z
UID:35893399-1741305600-1741305600@www.lakelandcollege.edu
SUMMARY:Mid Term Spring
DESCRIPTION:
URL:https://www.lakelandcollege.edu/calendar/mid-term-spring/
CATEGORIES:Important Dates and Deadlines
END:VEVENT
BEGIN:VEVENT
DTSTART;TZID=America/Chicago:20250307T000000
DTEND;TZID=America/Chicago:20250307T000000
DTSTAMP:20260425T231536
CREATED:20250303T175701Z
LAST-MODIFIED:20250306T185641Z
UID:35893400-1741305600-1741305600@www.lakelandcollege.edu
SUMMARY:Last Class Day Mod I
DESCRIPTION:
URL:https://www.lakelandcollege.edu/calendar/last-class-day-mod-i/
CATEGORIES:Important Dates and Deadlines
END:VEVENT
BEGIN:VEVENT
DTSTART;TZID=America/Chicago:20250307T000000
DTEND;TZID=America/Chicago:20250307T000000
DTSTAMP:20260425T231536
CREATED:20250303T175701Z
LAST-MODIFIED:20250306T185641Z
UID:35893401-1741305600-1741305600@www.lakelandcollege.edu
SUMMARY:Summer and Fall Schedule Available
DESCRIPTION:
URL:https://www.lakelandcollege.edu/calendar/summer-and-fall-schedule-available/
CATEGORIES:Important Dates and Deadlines
END:VEVENT
BEGIN:VEVENT
DTSTART;TZID=America/Chicago:20250307T110000
DTEND;TZID=America/Chicago:20250307T180000
DTSTAMP:20260425T231536
CREATED:20250306T114909Z
LAST-MODIFIED:20250307T231432Z
UID:35894372-1741345200-1741370400@www.lakelandcollege.edu
SUMMARY:BB V Wabash Valley
DESCRIPTION:Event Time: Double HeaderLocation: On Campus\,  – BASEContact: MeredithPhone: 5333
URL:https://www.lakelandcollege.edu/calendar/bb-v-wabash-valley-2/
LOCATION:On Campus\,  – BASE
CATEGORIES:Athletics
END:VEVENT
BEGIN:VEVENT
DTSTART;TZID=America/Chicago:20250308T110000
DTEND;TZID=America/Chicago:20250308T160000
DTSTAMP:20260425T231536
CREATED:20250306T114909Z
LAST-MODIFIED:20250308T074433Z
UID:35894373-1741431600-1741449600@www.lakelandcollege.edu
SUMMARY:SB v Frontier
DESCRIPTION:Event Time: DH 12:00PM\, 2:00PMLocation: On Campus\,  – SOFTContact: MeredithPhone: 5333
URL:https://www.lakelandcollege.edu/calendar/sb-v-frontier-2/
LOCATION:On Campus\,  – SOFT
CATEGORIES:Athletics
END:VEVENT
BEGIN:VEVENT
DTSTART;TZID=America/Chicago:20250308T110000
DTEND;TZID=America/Chicago:20250308T180000
DTSTAMP:20260425T231536
CREATED:20250303T191420Z
LAST-MODIFIED:20250305T220444Z
UID:35894026-1741431600-1741456800@www.lakelandcollege.edu
SUMMARY:BB V Wabash Valley
DESCRIPTION:Event Time: Double HeaderLocation: On Campus\,  – BASEContact: MeredithPhone: 5333
URL:https://www.lakelandcollege.edu/calendar/bb-v-wabash-valley/
LOCATION:On Campus\,  – BASE
CATEGORIES:Athletics
END:VEVENT
BEGIN:VEVENT
DTSTART;TZID=America/Chicago:20250310T000000
DTEND;TZID=America/Chicago:20250310T000000
DTSTAMP:20260425T231536
CREATED:20250303T175702Z
LAST-MODIFIED:20250308T074525Z
UID:35893402-1741564800-1741564800@www.lakelandcollege.edu
SUMMARY:Spring Recess-No Classes
DESCRIPTION:
URL:https://www.lakelandcollege.edu/calendar/spring-recess-no-classes/
CATEGORIES:Important Dates and Deadlines
END:VEVENT
BEGIN:VEVENT
DTSTART;TZID=America/Chicago:20250310T070000
DTEND;TZID=America/Chicago:20250310T200000
DTSTAMP:20260425T231536
CREATED:20250306T114909Z
LAST-MODIFIED:20250310T191202Z
UID:35894374-1741590000-1741636800@www.lakelandcollege.edu
SUMMARY:Fitness Center
DESCRIPTION:Location: On Campus\, Field House – 116Contact: Meredith Phone: 5333
URL:https://www.lakelandcollege.edu/calendar/fitness-center-2/
LOCATION:On Campus\, Field House – 116
CATEGORIES:Athletics
END:VEVENT
BEGIN:VEVENT
DTSTART;TZID=America/Chicago:20250310T180000
DTEND;TZID=America/Chicago:20250310T200000
DTSTAMP:20260425T231536
CREATED:20250303T172635Z
LAST-MODIFIED:20250310T174209Z
UID:35893301-1741629600-1741636800@www.lakelandcollege.edu
SUMMARY:Board of Trustees Meeting
DESCRIPTION:Event Time: 6:00-8:00 p.m.Location: On Campus\, Board and Administration Center – 011Contact: Seirra Laughhunn
URL:https://www.lakelandcollege.edu/calendar/board-of-trustees-meeting-41/
LOCATION:On Campus\, Board and Administration Center – 011
CATEGORIES:Board of Trustees Meetings
END:VEVENT
BEGIN:VEVENT
DTSTART;TZID=America/Chicago:20250311T000000
DTEND;TZID=America/Chicago:20250311T000000
DTSTAMP:20260425T231536
CREATED:20250303T175702Z
LAST-MODIFIED:20250310T215722Z
UID:35893403-1741651200-1741651200@www.lakelandcollege.edu
SUMMARY:Spring Recess-No Classes
DESCRIPTION:
URL:https://www.lakelandcollege.edu/calendar/spring-recess-no-classes-2/
CATEGORIES:Important Dates and Deadlines
END:VEVENT
BEGIN:VEVENT
DTSTART;TZID=America/Chicago:20250311T070000
DTEND;TZID=America/Chicago:20250311T200000
DTSTAMP:20260425T231536
CREATED:20250306T114910Z
LAST-MODIFIED:20250310T191203Z
UID:35894376-1741676400-1741723200@www.lakelandcollege.edu
SUMMARY:Fitness Center
DESCRIPTION:Location: On Campus\, Field House – 116Contact: Meredith Phone: 5333
URL:https://www.lakelandcollege.edu/calendar/fitness-center-3/
LOCATION:On Campus\, Field House – 116
CATEGORIES:Athletics
END:VEVENT
BEGIN:VEVENT
DTSTART;TZID=America/Chicago:20250311T080000
DTEND;TZID=America/Chicago:20250311T150000
DTSTAMP:20260425T231536
CREATED:20250311T124626Z
LAST-MODIFIED:20250311T185339Z
UID:35894846-1741680000-1741705200@www.lakelandcollege.edu
SUMMARY:Fitness Center
DESCRIPTION:Location: On Campus\, Field House – 116Contact: Meredith Phone: 5333
URL:https://www.lakelandcollege.edu/calendar/fitness-center-24/
LOCATION:On Campus\, Field House – 116
CATEGORIES:Athletics
END:VEVENT
BEGIN:VEVENT
DTSTART;TZID=America/Chicago:20250311T160000
DTEND;TZID=America/Chicago:20250311T210000
DTSTAMP:20260425T231536
CREATED:20250306T114910Z
LAST-MODIFIED:20250311T205751Z
UID:35894375-1741708800-1741726800@www.lakelandcollege.edu
SUMMARY:DI WB Region
DESCRIPTION:Location: On Campus\, Field House – 112Contact: Meredith Phone: Perez
URL:https://www.lakelandcollege.edu/calendar/di-wb-region/
LOCATION:On Campus\, Field House – 112
CATEGORIES:Athletics
END:VEVENT
BEGIN:VEVENT
DTSTART;TZID=America/Chicago:20250311T160000
DTEND;TZID=America/Chicago:20250311T210000
DTSTAMP:20260425T231536
CREATED:20250311T124626Z
LAST-MODIFIED:20250311T205751Z
UID:35894847-1741708800-1741726800@www.lakelandcollege.edu
SUMMARY:WB Division I
DESCRIPTION:Location: On Campus\, Field House – 112Phone: 5333
URL:https://www.lakelandcollege.edu/calendar/wb-division-i/
LOCATION:On Campus\, Field House – 112
CATEGORIES:Athletics
END:VEVENT
BEGIN:VEVENT
DTSTART;TZID=America/Chicago:20250312T000000
DTEND;TZID=America/Chicago:20250312T000000
DTSTAMP:20260425T231536
CREATED:20250303T175702Z
LAST-MODIFIED:20250311T183329Z
UID:35893404-1741737600-1741737600@www.lakelandcollege.edu
SUMMARY:Spring Recess-No Classes
DESCRIPTION:
URL:https://www.lakelandcollege.edu/calendar/spring-recess-no-classes-3/
CATEGORIES:Important Dates and Deadlines
END:VEVENT
BEGIN:VEVENT
DTSTART;TZID=America/Chicago:20250312T070000
DTEND;TZID=America/Chicago:20250312T200000
DTSTAMP:20260425T231536
CREATED:20250306T114910Z
LAST-MODIFIED:20250310T191203Z
UID:35894377-1741762800-1741809600@www.lakelandcollege.edu
SUMMARY:Fitness Center
DESCRIPTION:Location: On Campus\, Field House – 116Contact: Meredith Phone: 5333
URL:https://www.lakelandcollege.edu/calendar/fitness-center-4/
LOCATION:On Campus\, Field House – 116
CATEGORIES:Athletics
END:VEVENT
BEGIN:VEVENT
DTSTART;TZID=America/Chicago:20250312T080000
DTEND;TZID=America/Chicago:20250312T150000
DTSTAMP:20260425T231536
CREATED:20250311T124626Z
LAST-MODIFIED:20250312T191321Z
UID:35894848-1741766400-1741791600@www.lakelandcollege.edu
SUMMARY:Fitness Center
DESCRIPTION:Location: On Campus\, Field House – 116Contact: Meredith Phone: 5333
URL:https://www.lakelandcollege.edu/calendar/fitness-center-25/
LOCATION:On Campus\, Field House – 116
CATEGORIES:Athletics
END:VEVENT
BEGIN:VEVENT
DTSTART;TZID=America/Chicago:20250312T110000
DTEND;TZID=America/Chicago:20250312T115900
DTSTAMP:20260425T231536
CREATED:20250303T174133Z
LAST-MODIFIED:20250312T125039Z
UID:35893318-1741777200-1741780740@www.lakelandcollege.edu
SUMMARY:Curriculum Committee Meeting
DESCRIPTION:Location: On Campus\, Neal Hall – 108Contact: Ike Nwosu
URL:https://www.lakelandcollege.edu/calendar/curriculum-committee-meeting-13/
LOCATION:On Campus\, Neal Hall – 108
CATEGORIES:College Events
END:VEVENT
BEGIN:VEVENT
DTSTART;TZID=America/Chicago:20250312T120000
DTEND;TZID=America/Chicago:20250312T130000
DTSTAMP:20260425T231536
CREATED:20250303T174133Z
LAST-MODIFIED:20250312T125040Z
UID:35893319-1741780800-1741784400@www.lakelandcollege.edu
SUMMARY:Active Minds Club Meeting
DESCRIPTION:Active Minds ClubEvent Time: Noon-1:00 p.m.Location: On Campus\, Luther Student Center – 440Contact: Ellie Haskett Phone: 5259
URL:https://www.lakelandcollege.edu/calendar/active-minds-club-meeting-23/
LOCATION:On Campus\, Luther Student Center – 440
CATEGORIES:College Events
END:VEVENT
BEGIN:VEVENT
DTSTART;TZID=America/Chicago:20250312T120000
DTEND;TZID=America/Chicago:20250312T130000
DTSTAMP:20260425T231536
CREATED:20250303T184247Z
LAST-MODIFIED:20250312T131452Z
UID:35893694-1741780800-1741784400@www.lakelandcollege.edu
SUMMARY:Student Ambassador Meeting
DESCRIPTION:Student AmbassadorsLocation: On Campus\, Field House – 102Contact: Rachel ErvinPhone: 2704
URL:https://www.lakelandcollege.edu/calendar/student-ambassador-meeting-2/
LOCATION:On Campus\, Field House – 102
CATEGORIES:College Committee Meetings
END:VEVENT
END:VCALENDAR